BEGIN:VCALENDAR
VERSION:2.0
PRODID:-//Tiergarten Mönchengladbach - ECPv6.9.0//NONSGML v1.0//EN
CALSCALE:GREGORIAN
METHOD:PUBLISH
X-ORIGINAL-URL:https://www.tiergarten-moenchengladbach.de
X-WR-CALDESC:Veranstaltungen für Tiergarten Mönchengladbach
REFRESH-INTERVAL;VALUE=DURATION:PT1H
X-Robots-Tag:noindex
X-PUBLISHED-TTL:PT1H
BEGIN:VTIMEZONE
TZID:Europe/Berlin
BEGIN:DAYLIGHT
TZOFFSETFROM:+0100
TZOFFSETTO:+0200
TZNAME:CEST
DTSTART:20240331T010000
END:DAYLIGHT
BEGIN:STANDARD
TZOFFSETFROM:+0200
TZOFFSETTO:+0100
TZNAME:CET
DTSTART:20241027T010000
END:STANDARD
END:VTIMEZONE
BEGIN:VEVENT
DTSTART;TZID=Europe/Berlin:20241201T100000
DTEND;TZID=Europe/Berlin:20241224T103000
DTSTAMP:20260423T125914
CREATED:20241113T145156Z
LAST-MODIFIED:20241218T121116Z
UID:6673-1733047200-1735036200@www.tiergarten-moenchengladbach.de
SUMMARY:Lebendiger Adventskalender 2024
DESCRIPTION:Wir laden alle Besucher zu unserem lebendigen Adventskalender ein. Täglich vom 01. bis zum 24. Dezember 2024 wird symbolisch um 10:00 Uhr ein besonderes Zoo-Türchen geöffnet. Freut euch über ganz viele tolle Aktionen wie ein Bastelangebot in der Zooschule für Kinder\, spannende Vorträge über die Tiere\, besondere Einblicke hinter die Kulissen\, den Nikolaus und ganz viele Überraschungen. Wir haben uns sehr viel Mühe gegeben und jeden Tag ist eine andere Aktion geplant. Kommt vorbei und lasst uns miteinander eine schöne Adventszeit verbringen. \n  \n  \n \n  \n 
URL:https://www.tiergarten-moenchengladbach.de/event/lebendiger-adventskalender-2024/
LOCATION:Tiergarten Mönchengladbach\, Am Pixbusch 22\, Mönchengladbach\, NRW\, 41199\, Deutschland
ATTACH;FMTTYPE=image/jpeg:https://www.tiergarten-moenchengladbach.de/wp-content/uploads/2024/11/x-mas-fuchs.jpg
END:VEVENT
END:VCALENDAR